Package: mbQTL Version: 1.7.0 Command: E:\biocbuild\bbs-3.21-bioc\R\bin\R.exe CMD INSTALL mbQTL StartedAt: 2025-02-03 16:15:24 -0500 (Mon, 03 Feb 2025) EndedAt: 2025-02-03 16:15:45 -0500 (Mon, 03 Feb 2025) EllapsedTime: 20.8 seconds RetCode: 0 Status: OK