Package: mbkmeans Version: 1.23.0 Command: rm -rf mbkmeans.buildbin-libdir && mkdir mbkmeans.buildbin-libdir && /Users/biocbuild/BBS/utils/build-universal.sh mbkmeans_1.23.0.tar.gz /Library/Frameworks/R.framework/Resources/bin/R mbkmeans.buildbin-libdir StartedAt: 2025-02-09 22:19:52 -0500 (Sun, 09 Feb 2025) EndedAt: 2025-02-09 22:20:09 -0500 (Sun, 09 Feb 2025) EllapsedTime: 17.4 seconds RetCode: 0 Status: OK PackageFile: mbkmeans_1.23.0.tgz PackageFileSize: 431.3 KiB