Package: mbkmeans Version: 1.23.0 Command: /Library/Frameworks/R.framework/Resources/bin/R CMD INSTALL mbkmeans StartedAt: 2025-02-03 15:45:16 -0500 (Mon, 03 Feb 2025) EndedAt: 2025-02-03 15:45:32 -0500 (Mon, 03 Feb 2025) EllapsedTime: 15.8 seconds RetCode: 0 Status: OK