Package: mbkmeans Version: 1.23.0 Command: /home/biocbuild/R/R/bin/R CMD build --keep-empty-dirs --no-resave-data mbkmeans StartedAt: 2025-01-29 00:02:56 -0000 (Wed, 29 Jan 2025) EndedAt: 2025-01-29 00:05:18 -0000 (Wed, 29 Jan 2025) EllapsedTime: 142.0 seconds RetCode: 0 Status: OK PackageFile: mbkmeans_1.23.0.tar.gz PackageFileSize: 290 KiB