Package: mbkmeans Version: 1.23.0 Command: /home/biocbuild/R/R/bin/R CMD check --install=check:mbkmeans.install-out.txt --library=/home/biocbuild/R/R/site-library --no-vignettes --timings mbkmeans_1.23.0.tar.gz StartedAt: 2025-01-28 12:06:30 -0000 (Tue, 28 Jan 2025) EndedAt: 2025-01-28 12:13:48 -0000 (Tue, 28 Jan 2025) EllapsedTime: 438.5 seconds RetCode: 0 Status: OK CheckDir: mbkmeans.Rcheck Warnings: 0