Package: mbkmeans Version: 1.23.0 Command: /home/biocbuild/R/R/bin/R CMD INSTALL mbkmeans StartedAt: 2025-01-29 19:53:40 -0000 (Wed, 29 Jan 2025) EndedAt: 2025-01-29 19:54:51 -0000 (Wed, 29 Jan 2025) EllapsedTime: 71.2 seconds RetCode: 0 Status: OK