Package: mbkmeans Version: 1.23.0 Command: rm -rf mbkmeans.buildbin-libdir && mkdir mbkmeans.buildbin-libdir && /Users/biocbuild/BBS/utils/build-universal.sh mbkmeans_1.23.0.tar.gz /Library/Frameworks/R.framework/Resources/bin/R mbkmeans.buildbin-libdir StartedAt: 2025-02-04 00:41:37 -0500 (Tue, 04 Feb 2025) EndedAt: 2025-02-04 00:42:37 -0500 (Tue, 04 Feb 2025) EllapsedTime: 60.4 seconds RetCode: 0 Status: OK PackageFile: mbkmeans_1.23.0.tgz PackageFileSize: 442.4 KiB