Package: mbkmeans Version: 1.23.0 Command: /Library/Frameworks/R.framework/Resources/bin/R CMD check --install=check:mbkmeans.install-out.txt --library=/Library/Frameworks/R.framework/Resources/library --no-vignettes --timings mbkmeans_1.23.0.tar.gz StartedAt: 2025-02-09 21:41:37 -0500 (Sun, 09 Feb 2025) EndedAt: 2025-02-09 21:47:53 -0500 (Sun, 09 Feb 2025) EllapsedTime: 376.4 seconds RetCode: 0 Status: OK CheckDir: mbkmeans.Rcheck Warnings: 0