Package: mbkmeans Version: 1.23.0 Command: /home/biocbuild/bbs-3.21-bioc/R/bin/R CMD check --install=check:mbkmeans.install-out.txt --library=/home/biocbuild/bbs-3.21-bioc/R/site-library --timings mbkmeans_1.23.0.tar.gz StartedAt: 2025-02-03 23:55:56 -0500 (Mon, 03 Feb 2025) EndedAt: 2025-02-04 00:01:42 -0500 (Tue, 04 Feb 2025) EllapsedTime: 346.4 seconds RetCode: 0 Status: OK CheckDir: mbkmeans.Rcheck Warnings: 0