Package: mbkmeans Version: 1.23.0 Command: /home/biocbuild/bbs-3.21-bioc/R/bin/R CMD INSTALL mbkmeans StartedAt: 2025-02-09 15:20:43 -0500 (Sun, 09 Feb 2025) EndedAt: 2025-02-09 15:21:32 -0500 (Sun, 09 Feb 2025) EllapsedTime: 48.5 seconds RetCode: 0 Status: OK