Package: mbkmeans Version: 1.23.0 Command: chmod a+r mbkmeans -R && E:\biocbuild\bbs-3.21-bioc\R\bin\R.exe CMD build --keep-empty-dirs --no-resave-data mbkmeans StartedAt: 2025-02-03 19:54:32 -0500 (Mon, 03 Feb 2025) EndedAt: 2025-02-03 19:56:33 -0500 (Mon, 03 Feb 2025) EllapsedTime: 120.8 seconds RetCode: 0 Status: OK PackageFile: mbkmeans_1.23.0.tar.gz PackageFileSize: 257.5 KiB