Package: mbkmeans Version: 1.23.0 Command: E:\biocbuild\bbs-3.21-bioc\R\bin\R.exe CMD check --no-multiarch --install=check:mbkmeans.install-out.txt --library=E:\biocbuild\bbs-3.21-bioc\R\library --no-vignettes --timings mbkmeans_1.23.0.tar.gz StartedAt: 2025-02-10 02:35:07 -0500 (Mon, 10 Feb 2025) EndedAt: 2025-02-10 02:41:28 -0500 (Mon, 10 Feb 2025) EllapsedTime: 381.3 seconds RetCode: 0 Status: OK CheckDir: mbkmeans.Rcheck Warnings: 0