Package: mbkmeans Version: 1.23.0 Command: E:\biocbuild\bbs-3.21-bioc\R\bin\R.exe CMD INSTALL mbkmeans StartedAt: 2025-02-03 16:55:31 -0500 (Mon, 03 Feb 2025) EndedAt: 2025-02-03 16:56:34 -0500 (Mon, 03 Feb 2025) EllapsedTime: 62.7 seconds RetCode: 0 Status: OK