Package: mdp Version: 1.27.0 Command: /home/biocbuild/R/R/bin/R CMD build --keep-empty-dirs --no-resave-data mdp StartedAt: 2025-01-29 00:04:48 -0000 (Wed, 29 Jan 2025) EndedAt: 2025-01-29 00:05:17 -0000 (Wed, 29 Jan 2025) EllapsedTime: 29.0 seconds RetCode: 0 Status: OK PackageFile: mdp_1.27.0.tar.gz PackageFileSize: 4.17 MiB