Package: mdp Version: 1.27.0 Command: /home/biocbuild/R/R/bin/R CMD check --install=check:mdp.install-out.txt --library=/home/biocbuild/R/R/site-library --no-vignettes --timings mdp_1.27.0.tar.gz StartedAt: 2025-01-28 12:07:41 -0000 (Tue, 28 Jan 2025) EndedAt: 2025-01-28 12:08:47 -0000 (Tue, 28 Jan 2025) EllapsedTime: 66.1 seconds RetCode: 0 Status: OK CheckDir: mdp.Rcheck Warnings: 0