Package: mdp Version: 1.27.0 Command: /Library/Frameworks/R.framework/Resources/bin/R CMD check --install=check:mdp.install-out.txt --library=/Library/Frameworks/R.framework/Resources/library --no-vignettes --timings mdp_1.27.0.tar.gz StartedAt: 2025-02-04 21:27:12 -0500 (Tue, 04 Feb 2025) EndedAt: 2025-02-04 21:28:25 -0500 (Tue, 04 Feb 2025) EllapsedTime: 73.4 seconds RetCode: 0 Status: OK CheckDir: mdp.Rcheck Warnings: 0