Package: mdp Version: 1.27.0 Command: E:\biocbuild\bbs-3.21-bioc\R\bin\R.exe CMD check --no-multiarch --install=check:mdp.install-out.txt --library=E:\biocbuild\bbs-3.21-bioc\R\library --no-vignettes --timings mdp_1.27.0.tar.gz StartedAt: 2025-02-10 02:36:42 -0500 (Mon, 10 Feb 2025) EndedAt: 2025-02-10 02:38:05 -0500 (Mon, 10 Feb 2025) EllapsedTime: 83.4 seconds RetCode: 0 Status: OK CheckDir: mdp.Rcheck Warnings: 0