Package: mdp Version: 1.27.0 Command: E:\biocbuild\bbs-3.21-bioc\R\bin\R.exe CMD INSTALL mdp StartedAt: 2025-02-09 15:30:50 -0500 (Sun, 09 Feb 2025) EndedAt: 2025-02-09 15:30:59 -0500 (Sun, 09 Feb 2025) EllapsedTime: 9.0 seconds RetCode: 0 Status: OK