Package: megadepth Version: 1.17.0 Command: /Library/Frameworks/R.framework/Resources/bin/R CMD INSTALL megadepth StartedAt: 2025-02-09 15:19:04 -0500 (Sun, 09 Feb 2025) EndedAt: 2025-02-09 15:19:09 -0500 (Sun, 09 Feb 2025) EllapsedTime: 4.6 seconds RetCode: 0 Status: OK