Package: megadepth Version: 1.17.0 Command: rm -rf megadepth.buildbin-libdir && mkdir megadepth.buildbin-libdir && /Users/biocbuild/BBS/utils/build-universal.sh megadepth_1.17.0.tar.gz /Library/Frameworks/R.framework/Resources/bin/R megadepth.buildbin-libdir StartedAt: 2025-02-10 01:01:21 -0500 (Mon, 10 Feb 2025) EndedAt: 2025-02-10 01:01:39 -0500 (Mon, 10 Feb 2025) EllapsedTime: 18.5 seconds RetCode: 0 Status: OK PackageFile: megadepth_1.17.0.tgz PackageFileSize: 483.3 KiB