Package: megadepth Version: 1.17.0 Command: /Library/Frameworks/R.framework/Resources/bin/R CMD build --keep-empty-dirs --no-resave-data megadepth StartedAt: 2025-02-09 17:20:31 -0500 (Sun, 09 Feb 2025) EndedAt: 2025-02-09 17:21:12 -0500 (Sun, 09 Feb 2025) EllapsedTime: 41.1 seconds RetCode: 0 Status: OK PackageFile: megadepth_1.17.0.tar.gz PackageFileSize: 465.6 KiB