Package: megadepth Version: 1.17.0 Command: /Library/Frameworks/R.framework/Resources/bin/R CMD INSTALL megadepth StartedAt: 2025-02-09 15:31:06 -0500 (Sun, 09 Feb 2025) EndedAt: 2025-02-09 15:31:23 -0500 (Sun, 09 Feb 2025) EllapsedTime: 16.4 seconds RetCode: 0 Status: OK