Package: megadepth Version: 1.17.0 Command: rm -rf megadepth.buildbin-libdir && mkdir megadepth.buildbin-libdir && E:\biocbuild\bbs-3.21-bioc\R\bin\R.exe CMD INSTALL --build --library=megadepth.buildbin-libdir megadepth_1.17.0.tar.gz StartedAt: 2025-02-10 08:05:41 -0500 (Mon, 10 Feb 2025) EndedAt: 2025-02-10 08:06:03 -0500 (Mon, 10 Feb 2025) EllapsedTime: 22.3 seconds RetCode: 0 Status: OK PackageFile: megadepth_1.17.0.zip PackageFileSize: 493.6 KiB