Package: megadepth Version: 1.17.0 Command: E:\biocbuild\bbs-3.21-bioc\R\bin\R.exe CMD INSTALL megadepth StartedAt: 2025-02-09 15:54:24 -0500 (Sun, 09 Feb 2025) EndedAt: 2025-02-09 15:54:47 -0500 (Sun, 09 Feb 2025) EllapsedTime: 23.6 seconds RetCode: 0 Status: OK