Package: memes Version: 1.15.0 Command: /Library/Frameworks/R.framework/Resources/bin/R CMD check --install=check:memes.install-out.txt --library=/Library/Frameworks/R.framework/Resources/library --no-vignettes --timings memes_1.15.0.tar.gz StartedAt: 2025-02-09 19:58:53 -0500 (Sun, 09 Feb 2025) EndedAt: 2025-02-09 19:59:39 -0500 (Sun, 09 Feb 2025) EllapsedTime: 45.5 seconds RetCode: 0 Status: WARNINGS CheckDir: memes.Rcheck Warnings: 1