Package: memes Version: 1.15.0 Command: rm -rf memes.buildbin-libdir && mkdir memes.buildbin-libdir && /Users/biocbuild/BBS/utils/build-universal.sh memes_1.15.0.tar.gz /Library/Frameworks/R.framework/Resources/bin/R memes.buildbin-libdir StartedAt: 2025-02-10 01:01:22 -0500 (Mon, 10 Feb 2025) EndedAt: 2025-02-10 01:01:45 -0500 (Mon, 10 Feb 2025) EllapsedTime: 23.1 seconds RetCode: 0 Status: OK PackageFile: memes_1.15.0.tgz PackageFileSize: 1.212 MiB