Package: memes Version: 1.15.0 Command: /home/biocbuild/bbs-3.21-bioc/R/bin/R CMD check --install=check:memes.install-out.txt --library=/home/biocbuild/bbs-3.21-bioc/R/site-library --timings memes_1.15.0.tar.gz StartedAt: 2025-02-09 23:53:08 -0500 (Sun, 09 Feb 2025) EndedAt: 2025-02-09 23:56:06 -0500 (Sun, 09 Feb 2025) EllapsedTime: 178.2 seconds RetCode: 0 Status: WARNINGS CheckDir: memes.Rcheck Warnings: 1