Package: memes Version: 1.15.0 Command: /home/biocbuild/bbs-3.21-bioc/R/bin/R CMD INSTALL memes StartedAt: 2025-02-12 15:23:59 -0500 (Wed, 12 Feb 2025) EndedAt: 2025-02-12 15:24:13 -0500 (Wed, 12 Feb 2025) EllapsedTime: 14.0 seconds RetCode: 0 Status: OK