Package: memes Version: 1.15.0 Command: rm -rf memes.buildbin-libdir && mkdir memes.buildbin-libdir && E:\biocbuild\bbs-3.21-bioc\R\bin\R.exe CMD INSTALL --build --library=memes.buildbin-libdir memes_1.15.0.tar.gz StartedAt: 2025-02-04 08:19:10 -0500 (Tue, 04 Feb 2025) EndedAt: 2025-02-04 08:19:43 -0500 (Tue, 04 Feb 2025) EllapsedTime: 32.7 seconds RetCode: 0 Status: OK PackageFile: memes_1.15.0.zip PackageFileSize: 1.126 MiB