Package: meshes Version: 1.33.0 Command: /home/biocbuild/R/R/bin/R CMD INSTALL meshes StartedAt: 2025-01-29 20:18:13 -0000 (Wed, 29 Jan 2025) EndedAt: 2025-01-29 20:18:47 -0000 (Wed, 29 Jan 2025) EllapsedTime: 33.7 seconds RetCode: 0 Status: OK