Package: meshes Version: 1.33.0 Command: /Library/Frameworks/R.framework/Resources/bin/R CMD build --keep-empty-dirs --no-resave-data meshes StartedAt: 2025-02-12 17:17:10 -0500 (Wed, 12 Feb 2025) EndedAt: 2025-02-12 17:17:41 -0500 (Wed, 12 Feb 2025) EllapsedTime: 30.9 seconds RetCode: 0 Status: OK PackageFile: meshes_1.33.0.tar.gz PackageFileSize: 922.1 KiB