Package: meshes Version: 1.33.0 Command: /Library/Frameworks/R.framework/Resources/bin/R CMD INSTALL meshes StartedAt: 2025-02-09 15:33:31 -0500 (Sun, 09 Feb 2025) EndedAt: 2025-02-09 15:34:04 -0500 (Sun, 09 Feb 2025) EllapsedTime: 33.4 seconds RetCode: 0 Status: OK