Package: meshes Version: 1.33.0 Command: /home/biocbuild/bbs-3.21-bioc/R/bin/R CMD build --keep-empty-dirs --no-resave-data meshes StartedAt: 2025-02-09 17:59:39 -0500 (Sun, 09 Feb 2025) EndedAt: 2025-02-09 18:00:06 -0500 (Sun, 09 Feb 2025) EllapsedTime: 27.0 seconds RetCode: 0 Status: OK PackageFile: meshes_1.33.0.tar.gz PackageFileSize: 922.1 KiB