Package: meshes Version: 1.33.0 Command: chmod a+r meshes -R && E:\biocbuild\bbs-3.21-bioc\R\bin\R.exe CMD build --keep-empty-dirs --no-resave-data meshes StartedAt: 2025-02-12 19:49:41 -0500 (Wed, 12 Feb 2025) EndedAt: 2025-02-12 19:50:21 -0500 (Wed, 12 Feb 2025) EllapsedTime: 40.3 seconds RetCode: 0 Status: OK PackageFile: meshes_1.33.0.tar.gz PackageFileSize: 922.1 KiB