Package: meshes Version: 1.33.0 Command: E:\biocbuild\bbs-3.21-bioc\R\bin\R.exe CMD check --no-multiarch --install=check:meshes.install-out.txt --library=E:\biocbuild\bbs-3.21-bioc\R\library --no-vignettes --timings meshes_1.33.0.tar.gz StartedAt: 2025-02-10 02:39:59 -0500 (Mon, 10 Feb 2025) EndedAt: 2025-02-10 02:43:15 -0500 (Mon, 10 Feb 2025) EllapsedTime: 196.3 seconds RetCode: 0 Status: OK CheckDir: meshes.Rcheck Warnings: 0