Package: meshr Version: 2.13.0 Command: /Library/Frameworks/R.framework/Resources/bin/R CMD build --keep-empty-dirs --no-resave-data meshr StartedAt: 2025-02-09 16:50:41 -0500 (Sun, 09 Feb 2025) EndedAt: 2025-02-09 16:50:51 -0500 (Sun, 09 Feb 2025) EllapsedTime: 10.1 seconds RetCode: 0 Status: OK PackageFile: meshr_2.13.0.tar.gz PackageFileSize: 1002 KiB