Package: meshr Version: 2.13.0 Command: /home/biocbuild/R/R/bin/R CMD check --install=check:meshr.install-out.txt --library=/home/biocbuild/R/R/site-library --no-vignettes --timings meshr_2.13.0.tar.gz StartedAt: 2025-01-28 12:11:37 -0000 (Tue, 28 Jan 2025) EndedAt: 2025-01-28 12:14:26 -0000 (Tue, 28 Jan 2025) EllapsedTime: 169.2 seconds RetCode: 0 Status: OK CheckDir: meshr.Rcheck Warnings: 0