Package: meshr Version: 2.13.0 Command: /Library/Frameworks/R.framework/Resources/bin/R CMD INSTALL meshr StartedAt: 2025-02-09 15:35:19 -0500 (Sun, 09 Feb 2025) EndedAt: 2025-02-09 15:35:49 -0500 (Sun, 09 Feb 2025) EllapsedTime: 30.2 seconds RetCode: 0 Status: OK