Package: metaCCA Version: 1.35.0 Command: /home/biocbuild/R/R/bin/R CMD check --install=check:metaCCA.install-out.txt --library=/home/biocbuild/R/R/site-library --no-vignettes --timings metaCCA_1.35.0.tar.gz StartedAt: 2025-01-28 12:13:48 -0000 (Tue, 28 Jan 2025) EndedAt: 2025-01-28 12:14:06 -0000 (Tue, 28 Jan 2025) EllapsedTime: 18.0 seconds RetCode: 0 Status: WARNINGS CheckDir: metaCCA.Rcheck Warnings: 1