Package: metaCCA Version: 1.35.0 Command: /Library/Frameworks/R.framework/Resources/bin/R CMD build --keep-empty-dirs --no-resave-data metaCCA StartedAt: 2025-02-04 17:16:55 -0500 (Tue, 04 Feb 2025) EndedAt: 2025-02-04 17:17:09 -0500 (Tue, 04 Feb 2025) EllapsedTime: 13.7 seconds RetCode: 0 Status: OK PackageFile: metaCCA_1.35.0.tar.gz PackageFileSize: 923 KiB