Package: metaCCA Version: 1.35.0 Command: /Library/Frameworks/R.framework/Resources/bin/R CMD check --install=check:metaCCA.install-out.txt --library=/Library/Frameworks/R.framework/Resources/library --no-vignettes --timings metaCCA_1.35.0.tar.gz StartedAt: 2025-02-04 21:31:05 -0500 (Tue, 04 Feb 2025) EndedAt: 2025-02-04 21:31:33 -0500 (Tue, 04 Feb 2025) EllapsedTime: 27.6 seconds RetCode: 0 Status: WARNINGS CheckDir: metaCCA.Rcheck Warnings: 1