Package: metaCCA Version: 1.35.0 Command: /home/biocbuild/bbs-3.21-bioc/R/bin/R CMD build --keep-empty-dirs --no-resave-data metaCCA StartedAt: 2025-02-04 17:58:30 -0500 (Tue, 04 Feb 2025) EndedAt: 2025-02-04 17:58:38 -0500 (Tue, 04 Feb 2025) EllapsedTime: 8.0 seconds RetCode: 0 Status: OK PackageFile: metaCCA_1.35.0.tar.gz PackageFileSize: 924 KiB