Package: metaCCA Version: 1.35.0 Command: /home/biocbuild/bbs-3.21-bioc/R/bin/R CMD check --install=check:metaCCA.install-out.txt --library=/home/biocbuild/bbs-3.21-bioc/R/site-library --timings metaCCA_1.35.0.tar.gz StartedAt: 2025-02-04 23:56:27 -0500 (Tue, 04 Feb 2025) EndedAt: 2025-02-05 00:00:31 -0500 (Wed, 05 Feb 2025) EllapsedTime: 243.3 seconds RetCode: 0 Status: WARNINGS CheckDir: metaCCA.Rcheck Warnings: 1