Package: metaCCA Version: 1.35.0 Command: /home/biocbuild/bbs-3.21-bioc/R/bin/R CMD INSTALL metaCCA StartedAt: 2025-02-04 15:01:04 -0500 (Tue, 04 Feb 2025) EndedAt: 2025-02-04 15:01:16 -0500 (Tue, 04 Feb 2025) EllapsedTime: 11.9 seconds RetCode: 0 Status: OK