Package: metaCCA Version: 1.35.0 Command: chmod a+r metaCCA -R && E:\biocbuild\bbs-3.21-bioc\R\bin\R.exe CMD build --keep-empty-dirs --no-resave-data metaCCA StartedAt: 2025-02-04 19:48:01 -0500 (Tue, 04 Feb 2025) EndedAt: 2025-02-04 19:48:18 -0500 (Tue, 04 Feb 2025) EllapsedTime: 17.0 seconds RetCode: 0 Status: OK PackageFile: metaCCA_1.35.0.tar.gz PackageFileSize: 926.5 KiB