Package: metaMS Version: 1.43.0 Command: /home/biocbuild/bbs-3.21-bioc/R/bin/R CMD build --keep-empty-dirs --no-resave-data metaMS StartedAt: 2025-02-12 17:57:54 -0500 (Wed, 12 Feb 2025) EndedAt: 2025-02-12 17:59:01 -0500 (Wed, 12 Feb 2025) EllapsedTime: 67.1 seconds RetCode: 0 Status: OK PackageFile: metaMS_1.43.0.tar.gz PackageFileSize: 3.818 MiB