Package: metaMS Version: 1.43.0 Command: chmod a+r metaMS -R && E:\biocbuild\bbs-3.21-bioc\R\bin\R.exe CMD build --keep-empty-dirs --no-resave-data metaMS StartedAt: 2025-02-09 19:46:31 -0500 (Sun, 09 Feb 2025) EndedAt: 2025-02-09 19:48:10 -0500 (Sun, 09 Feb 2025) EllapsedTime: 98.9 seconds RetCode: 0 Status: OK PackageFile: metaMS_1.43.0.tar.gz PackageFileSize: 3.554 MiB