Package: metaMS Version: 1.43.0 Command: E:\biocbuild\bbs-3.21-bioc\R\bin\R.exe CMD check --no-multiarch --install=check:metaMS.install-out.txt --library=E:\biocbuild\bbs-3.21-bioc\R\library --no-vignettes --timings metaMS_1.43.0.tar.gz StartedAt: 2025-02-10 02:43:16 -0500 (Mon, 10 Feb 2025) EndedAt: 2025-02-10 02:50:15 -0500 (Mon, 10 Feb 2025) EllapsedTime: 418.5 seconds RetCode: 0 Status: OK CheckDir: metaMS.Rcheck Warnings: 0