Package: metaMS Version: 1.43.0 Command: E:\biocbuild\bbs-3.21-bioc\R\bin\R.exe CMD INSTALL metaMS StartedAt: 2025-02-09 17:01:11 -0500 (Sun, 09 Feb 2025) EndedAt: 2025-02-09 17:02:00 -0500 (Sun, 09 Feb 2025) EllapsedTime: 49.6 seconds RetCode: 0 Status: OK