Package: metaSeq Version: 1.47.0 Command: rm -rf metaSeq.buildbin-libdir && mkdir metaSeq.buildbin-libdir && /Users/biocbuild/BBS/utils/build-universal.sh metaSeq_1.47.0.tar.gz /Library/Frameworks/R.framework/Resources/bin/R metaSeq.buildbin-libdir StartedAt: 2025-02-03 22:56:16 -0500 (Mon, 03 Feb 2025) EndedAt: 2025-02-03 22:56:20 -0500 (Mon, 03 Feb 2025) EllapsedTime: 4.1 seconds RetCode: 0 Status: OK PackageFile: metaSeq_1.47.0.tgz PackageFileSize: 6.181 MiB